BEGIN:VCALENDAR
VERSION:2.0
PRODID:-//pretix//Tickets.bremen.social//
BEGIN:VEVENT
UID:pretix-kukoon-Cats-0@tickets.kukoon.de
DTSTART:20241115T190000Z
DTEND:20241115T210000Z
DESCRIPTION:Tickets: https://tickets.kukoon.de/Cats/\nAdmission: 2024-11-15
  18:00\nOrganizer: Kulturzentrum Kukoon
DTSTAMP:20260425T120225Z
LOCATION:Kulturzentrum Kukoon
SUMMARY:Konzert - Cats & Breakkies
END:VEVENT
END:VCALENDAR
