BEGIN:VCALENDAR
VERSION:2.0
PRODID:-//pretix//Tickets.bremen.social//
BEGIN:VEVENT
UID:pretix-kukoon-PAN-0@tickets.kukoon.de
DTSTART:20241031T190000Z
DTEND:20241031T210000Z
DESCRIPTION:Tickets: https://tickets.kukoon.de/PAN/\nAdmission: 2024-10-31 
 18:30\nOrganizer: Kulturzentrum Kukoon
DTSTAMP:20260425T120225Z
LOCATION:Kulturzentrum Kukoon
SUMMARY:Buchvorstellung PANDO
END:VEVENT
END:VCALENDAR
