BEGIN:VCALENDAR
VERSION:2.0
PRODID:-//pretix//Tickets.bremen.social//
BEGIN:VEVENT
UID:pretix-kukoon-alice-0@tickets.kukoon.de
DTSTART:20231031T190000Z
DTEND:20231031T200000Z
DESCRIPTION:Tickets: https://tickets.kukoon.de/alice/\nAdmission: 2023-10-3
 1 18:00\nOrganizer: Kulturzentrum Kukoon
DTSTAMP:20260425T121935Z
LOCATION:Kulturzentrum Kukoon
SUMMARY:Alice Hasters: Identitätskrise
END:VEVENT
END:VCALENDAR
