BEGIN:VCALENDAR
VERSION:2.0
PRODID:-//pretix//Tickets.bremen.social//
BEGIN:VTIMEZONE
TZID:Europe/Berlin
BEGIN:STANDARD
DTSTART:20001029T040000
RRULE:FREQ=YEARLY;BYDAY=-1SU;BYMONTH=10
TZNAME:CET
TZOFFSETFROM:+0200
TZOFFSETTO:+0100
END:STANDARD
BEGIN:DAYLIGHT
DTSTART:20000326T030000
RRULE:FREQ=YEARLY;BYDAY=-1SU;BYMONTH=3
TZNAME:CEST
TZOFFSETFROM:+0100
TZOFFSETTO:+0200
END:DAYLIGHT
END:VTIMEZONE
BEGIN:VEVENT
UID:pretix-kukoon-Gutschein-Kukoon-0@tickets.kukoon.de
DTSTART;VALUE=DATE:20250122
DTEND;VALUE=DATE:20250123
DESCRIPTION:Tickets: https://tickets.kukoon.de/Gutschein-Kukoon/\nOrganizer
 : Kulturzentrum Kukoon
DTSTAMP:20260419T145735Z
LOCATION:Kulturzentrum Kukoon\, Gesellschaft für bunte Steine mbH\, Bunten
 torsteinweg 29\, 28201 Bremen
SUMMARY:Kukoon Gutscheine
END:VEVENT
BEGIN:VEVENT
UID:pretix-kukoon-queerslam-0@tickets.kukoon.de
DTSTART;TZID=Europe/Berlin:20260410T200000
DTEND;TZID=Europe/Berlin:20260410T220000
DESCRIPTION:Tickets: https://tickets.kukoon.de/queerslam/\nOrganizer: Kultu
 rzentrum Kukoon
DTSTAMP:20260419T145735Z
LOCATION:Kulturzentrum Kukoon
SUMMARY:Queer Slam
END:VEVENT
BEGIN:VEVENT
UID:pretix-kukoon-satzwende-2-0@tickets.kukoon.de
DTSTART;TZID=Europe/Berlin:20260421T190000
DTEND;TZID=Europe/Berlin:20260421T203000
DESCRIPTION:Tickets: https://tickets.kukoon.de/satzwende-2/\nAdmission: 202
 6-04-21 18:30\nOrganizer: Kulturzentrum Kukoon
DTSTAMP:20260419T145735Z
LOCATION:Kulturzentrum Kukoon\, Buntentorsteinweg 29\, 28201 Bremen\, Deuts
 chland
SUMMARY:Satzwende - April 2026
END:VEVENT
BEGIN:VEVENT
UID:pretix-kukoon-satzwende-3-0@tickets.kukoon.de
DTSTART;TZID=Europe/Berlin:20260507T190000
DTEND;TZID=Europe/Berlin:20260507T203000
DESCRIPTION:Tickets: https://tickets.kukoon.de/satzwende-3/\nAdmission: 202
 6-05-07 18:30\nOrganizer: Kulturzentrum Kukoon
DTSTAMP:20260419T145735Z
LOCATION:Flux Weserburg\, Bremen\, Deutschland
SUMMARY:Satzwende - Mai 2026
END:VEVENT
END:VCALENDAR
