BEGIN:VCALENDAR
VERSION:2.0
PRODID:-//pretix//Tickets.bremen.social//
BEGIN:VEVENT
UID:pretix-kukoon-nullerjahre-0@tickets.kukoon.de
DTSTART:20221104T180000Z
DTEND:20221104T210000Z
DESCRIPTION:Tickets: https://tickets.kukoon.de/nullerjahre/\nOrganizer: Kul
 turzentrum Kukoon
DTSTAMP:20260425T120224Z
LOCATION:Kulturzentrum Kukoon\, Buntentorsteinweg 29\, 28201 Bremen
SUMMARY:Hendrik Bolz – Nullerjahre
END:VEVENT
END:VCALENDAR
